BEGIN:VCALENDAR
VERSION:2.0
PRODID:icalendar-ruby
CALSCALE:GREGORIAN
BEGIN:VEVENT
DTSTAMP:20260423T134339Z
UID:5e2729b0-433d-4d8a-bda8-2bcab80cc984
DTSTART;VALUE=DATE:20260514
DESCRIPTION:Property ID# 607037\, Locatoin: In rooms\, Time: 1:00AM
SUMMARY:Auction for 61 Hill Road
END:VEVENT
END:VCALENDAR
