BEGIN:VCALENDAR
VERSION:2.0
PRODID:icalendar-ruby
CALSCALE:GREGORIAN
BEGIN:VEVENT
DTSTAMP:20260421T112900Z
UID:64348e16-1709-4637-8c20-ee8f127e83e8
DTSTART;VALUE=DATE:20260414
DESCRIPTION:Property ID# 605969\, Locatoin: 13/77 St George St. Papatoetoe 
 unless sold prior\, Time: 2:00PM
SUMMARY:Auction for 12D Jutland Road
END:VEVENT
END:VCALENDAR
