BEGIN:VCALENDAR
VERSION:2.0
PRODID:icalendar-ruby
CALSCALE:GREGORIAN
BEGIN:VEVENT
DTSTAMP:20260420T034005Z
UID:80206e52-46f8-4661-ad69-fd428ab4f1a2
DTSTART;VALUE=DATE:20210519
DESCRIPTION:Property ID# 508147\, Locatoin: 778 Manukau Road Royal Oak\, Ti
 me: 6:00PM
SUMMARY:Auction for 
END:VEVENT
END:VCALENDAR
