BEGIN:VCALENDAR
VERSION:2.0
PRODID:icalendar-ruby
CALSCALE:GREGORIAN
BEGIN:VEVENT
DTSTAMP:20260420T033800Z
UID:ed9282ad-58ca-4909-8980-a1a7912191a2
DTSTART;VALUE=DATE:20210309
DESCRIPTION:Property ID# 501964\, Locatoin: 778 Manukau Road Royal Oak\, Ti
 me: 12:00PM
SUMMARY:Auction for 
END:VEVENT
END:VCALENDAR
