BEGIN:VCALENDAR
VERSION:2.0
PRODID:icalendar-ruby
CALSCALE:GREGORIAN
BEGIN:VEVENT
DTSTAMP:20260420T033903Z
UID:5652681c-8ed0-4293-ab29-8d22bb9937ff
DTSTART;VALUE=DATE:20210224
DESCRIPTION:Property ID# 500427\, Locatoin: 778 Manukau Road Royal Oak\, Ti
 me: 6:00PM
SUMMARY:Auction for 
END:VEVENT
END:VCALENDAR
