BEGIN:VCALENDAR
VERSION:2.0
PRODID:icalendar-ruby
CALSCALE:GREGORIAN
BEGIN:VEVENT
DTSTAMP:20260424T094807Z
UID:030809ae-dacb-45b5-aa83-f1e72d34699c
DTSTART;VALUE=DATE:20201209
DESCRIPTION:Property ID# 497563\, Locatoin: 778 Manukau Rd\, Time: 12:00PM
SUMMARY:Auction for 
END:VEVENT
END:VCALENDAR
