BEGIN:VCALENDAR
VERSION:2.0
PRODID:icalendar-ruby
CALSCALE:GREGORIAN
BEGIN:VEVENT
DTSTAMP:20260420T034127Z
UID:671c3dc8-cf23-4df1-8293-ec9c1f5ddc64
DTSTART;VALUE=DATE:20201125
DESCRIPTION:Property ID# 494264\, Locatoin: 778 Manukau Road Royal Oak\, Ti
 me: 6:00PM
SUMMARY:Auction for 
END:VEVENT
END:VCALENDAR
