BEGIN:VCALENDAR
VERSION:2.0
PRODID:icalendar-ruby
CALSCALE:GREGORIAN
BEGIN:VEVENT
DTSTAMP:20260420T033806Z
UID:ed8b9ab3-dea7-4450-b1fe-9e6faaa3361d
DTSTART;VALUE=DATE:20201118
DESCRIPTION:Property ID# 493542\, Locatoin: 778 Manukau Road\, Royal Oak (u
 nless sold prior)\, Time: 6:00PM
SUMMARY:Auction for 
END:VEVENT
END:VCALENDAR
