BEGIN:VCALENDAR
VERSION:2.0
PRODID:icalendar-ruby
CALSCALE:GREGORIAN
BEGIN:VEVENT
DTSTAMP:20260420T002211Z
UID:08f014c1-ce28-4011-abb8-8372adbba7ca
DTSTART;VALUE=DATE:20201030
DESCRIPTION:Property ID# 492519\, Locatoin: 50 Remuera Road\, Time: 2:00PM
SUMMARY:Auction for 
END:VEVENT
END:VCALENDAR
