BEGIN:VCALENDAR
VERSION:2.0
PRODID:icalendar-ruby
CALSCALE:GREGORIAN
BEGIN:VEVENT
DTSTAMP:20260424T081705Z
UID:dfd340e1-808d-4ae6-95c3-cf88292e00ee
DTSTART;VALUE=DATE:20200907
DESCRIPTION:Property ID# 488845\, Locatoin: 778 Manukau Road Royal Oak\, Ti
 me: 3:00PM
SUMMARY:Auction for 
END:VEVENT
END:VCALENDAR
