BEGIN:VCALENDAR
VERSION:2.0
PRODID:icalendar-ruby
CALSCALE:GREGORIAN
BEGIN:VEVENT
DTSTAMP:20260420T033609Z
UID:9ab8699f-0bc7-40c5-9d9e-7252b4bbaec4
DTSTART;VALUE=DATE:20200916
DESCRIPTION:Property ID# 487144\, Locatoin: 778 Manukau Road Royal Oak\, Ti
 me: 6:00PM
SUMMARY:Auction for 
END:VEVENT
END:VCALENDAR
