BEGIN:VCALENDAR
VERSION:2.0
PRODID:icalendar-ruby
CALSCALE:GREGORIAN
BEGIN:VEVENT
DTSTAMP:20260422T082702Z
UID:8dbfc00b-4825-43e9-bad8-fea4af037eb9
DTSTART;VALUE=DATE:20201011
DESCRIPTION:Property ID# 487039\, Locatoin: On site\, Time: 1:00PM
SUMMARY:Auction for 
END:VEVENT
END:VCALENDAR
