BEGIN:VCALENDAR
VERSION:2.0
PRODID:icalendar-ruby
CALSCALE:GREGORIAN
BEGIN:VEVENT
DTSTAMP:20260420T001728Z
UID:2d4e1e1b-5b3f-423d-ae7b-351d49832ccd
DTSTART;VALUE=DATE:20200708
DESCRIPTION:Property ID# 482294\, Locatoin: 778 Manukau Road\, Royal Oak (u
 nless sold prior)\, Time: 6:00PM
SUMMARY:Auction for 
END:VEVENT
END:VCALENDAR
