BEGIN:VCALENDAR
VERSION:2.0
PRODID:icalendar-ruby
CALSCALE:GREGORIAN
BEGIN:VEVENT
DTSTAMP:20260420T001728Z
UID:67930cb7-9d8f-414e-a82a-ef11ffa75287
DTSTART;VALUE=DATE:20200318
DESCRIPTION:Property ID# 473369\, Locatoin: 778 Manukau Road\, Royal Oak (u
 nless sold prior)\, Time: 6:00PM
SUMMARY:Auction for 
END:VEVENT
END:VCALENDAR
