BEGIN:VCALENDAR
VERSION:2.0
PRODID:icalendar-ruby
CALSCALE:GREGORIAN
BEGIN:VEVENT
DTSTAMP:20260420T034112Z
UID:6fbef17b-a212-4630-877c-b9466f1f7988
DTSTART;VALUE=DATE:20191211
DESCRIPTION:Property ID# 468001\, Locatoin: 778 Manukau Road\, Royal Oak (u
 nless sold prior)\, Time: 6:00PM
SUMMARY:Auction for 
END:VEVENT
END:VCALENDAR
