BEGIN:VCALENDAR
VERSION:2.0
PRODID:icalendar-ruby
CALSCALE:GREGORIAN
BEGIN:VEVENT
DTSTAMP:20260420T001636Z
UID:031c8be6-ca2e-43f0-988f-ed6b15d26471
DTSTART;VALUE=DATE:20191120
DESCRIPTION:Property ID# 465132\, Locatoin: 778 Manukau Road\, Royal Oak\, 
 1023\, Time: 6:00PM
SUMMARY:Auction for 
END:VEVENT
END:VCALENDAR
